BEGIN:VCALENDAR
VERSION:2.0
PRODID:-// - ECPv6.15.20//NONSGML v1.0//EN
CALSCALE:GREGORIAN
METHOD:PUBLISH
X-ORIGINAL-URL:https://granlux.org
X-WR-CALDESC:Évènements pour 
REFRESH-INTERVAL;VALUE=DURATION:PT1H
X-Robots-Tag:noindex
X-PUBLISHED-TTL:PT1H
BEGIN:VTIMEZONE
TZID:UTC
BEGIN:STANDARD
TZOFFSETFROM:+0000
TZOFFSETTO:+0000
TZNAME:UTC
DTSTART:20250101T000000
END:STANDARD
END:VTIMEZONE
BEGIN:VEVENT
DTSTART;TZID=UTC:20260508T180000
DTEND;TZID=UTC:20260508T180000
DTSTAMP:20260420T160335
CREATED:20260408T120329Z
LAST-MODIFIED:20260409T092206Z
UID:16998-1778263200-1778263200@granlux.org
SUMMARY:Rencontre avec Maxime Lachaud
DESCRIPTION:RENCONTRE AVEC MAXIME LACHAUD\n\n\n\n▎ Guides : Luna Baruta et Jvdm \n\n\n\nEntre carnets de route\, biographie à peine déguisée et recueil d’obsessions visuelles\, le nouveau livre de Maxime Lachaud*\, Shockroads – Des cauchemars américains aux films-rêves est surtout une plongée jouissive\, à la fois documentaire et imaginaire\, dans un cinéma horrifique\, onirique devenu culte.Cette enquête all over the world revient sur des lieux de tournage de films\, recueille la parole de cinéastes et d’écrivains qui témoignent d’une réalité qui dépasse toujours la fiction. On déambule dans les ruines d’anciens drive-in sous le soleil rouge du Texas\, on suit des parades étranges dans les bayous\, on croise des têtes réduites ou on se perd dans des parcs d’attractions à l’abandon… Tout devient flou et fantasque.•* Maxime est aussi le co-auteur avec Sébastien Gayraud de Mondo Movies\, reflets dans un œil mort. Le candidat idéal pour présenter les deux mondo movies de ce soir.Le cinéma mondo (en anglais mondo films\, ou mondo movies) est un genre de cinéma d’exploitation caractérisé par une approche pseudo-documentaire très crue et mystificatrice.   \n\n\n\n\n\n\n\n\n▎vendredi 8 mai • 18.00 \n\n\n\n▎Gratuit \n\n\n\n\n\n\n\n\n\n\n\n\ncalendrier\n\n\n\n\n\n\n\nprogramme complet
URL:https://granlux.org/seance/rencontre-avec-maxime-lachaud/
CATEGORIES:conférence
ATTACH;FMTTYPE=image/jpeg:https://granlux.org/wp-content/uploads/2026/04/in-esclusivita-1.jpg
END:VEVENT
BEGIN:VEVENT
DTSTART;TZID=UTC:20260509T170000
DTEND;TZID=UTC:20260509T170000
DTSTAMP:20260420T160335
CREATED:20260409T091741Z
LAST-MODIFIED:20260409T100219Z
UID:17072-1778346000-1778346000@granlux.org
SUMMARY:Du fascisme ordinaire à l’ordinaire du bourreau :  autour des « Bienveillantes » de Jonathan Littel · conférence de Tiphaine Deschamps
DESCRIPTION:DU FASCISME ORDINAIRE À L’ORDINAIRE DU BOURREAU :  AUTOUR DES « BIENVEILLANTES » DE JONATHAN LITTELL\n\n\n\n▎ Conférence de Tiphaine Deschamps\, historienne \n\n\n\nQuoi de plus inquiétant que l’ordinaire ?Après les archives\, la fiction. Que peut apporter un roman à la compréhension du nazisme ? Dans son livre-monstre de 900 pages\, Littell fait un choix radical : prendre pour narrateur un officier SS pour nous raconter la guerre et le génocide. Une plongée glaçante dans le cerveau d’un homme quelconque et appliqué\, poli\, cultivé\, méthodique.Le lecteur n’en sort évidemment pas indemne\, mais éclairé sur les mécanismes idéologiques\, administratifs et humains qui rendent possible l’horreur. Celle-ci se nourrit de normalité\, de logique\, de carrières\, d’obéissance.Une lecture inconfortable mais nécessaire. Parce que réduire le crime de masse à des « monstres » nous rassure – et nous empêche de voir les structures qui le rendent possible. \n\n\n\n\n\n\n\n\n▎samedi 9 mai • 17.00 \n\n\n\n▎Gratuit / ou pass après-midi Le Fascisme ordinaire + Conférence « DU FASCISME ORDINAIRE À L’ORDINAIRE DU BOURREAU » + Les Années sombres : 6 € \n\n\n\n\n\n\n\n\n\n\n\n\ncalendrier\n\n\n\n\n\n\n\nprogramme complet
URL:https://granlux.org/seance/du-fascisme-ordinaire-a-lordinaire-du-bourreau-autour-des-bienveillantes-de-jonathan-littell-%c2%b7-conference-de-tiphaine-deschamps/
CATEGORIES:conférence
ATTACH;FMTTYPE=image/jpeg:https://granlux.org/wp-content/uploads/2026/04/LITTELL_Jonathan_photo_2018_Francesca_Mantovani_-_editions_Gallimard_1.jpg
END:VEVENT
END:VCALENDAR